BEGIN:VCALENDAR
VERSION:2.0
PRODID:-//Lordswood Leisure Centre - ECPv6.3.3.1//NONSGML v1.0//EN
CALSCALE:GREGORIAN
METHOD:PUBLISH
X-WR-CALNAME:Lordswood Leisure Centre
X-ORIGINAL-URL:https://www.lordswood-leisure.co.uk
X-WR-CALDESC:Events for Lordswood Leisure Centre
REFRESH-INTERVAL;VALUE=DURATION:PT1H
X-Robots-Tag:noindex
X-PUBLISHED-TTL:PT1H
BEGIN:VTIMEZONE
TZID:UTC
BEGIN:STANDARD
TZOFFSETFROM:+0000
TZOFFSETTO:+0000
TZNAME:UTC
DTSTART:20160101T000000
END:STANDARD
END:VTIMEZONE
BEGIN:VEVENT
DTSTART;TZID=UTC:20251105T170000
DTEND;TZID=UTC:20251105T220000
DTSTAMP:20260420T143120
CREATED:20251010T090212Z
LAST-MODIFIED:20251010T090803Z
UID:40270-1762362000-1762380000@www.lordswood-leisure.co.uk
SUMMARY:Firework Night 2025
DESCRIPTION:The annual bonfire\, fireworks and funfair is back at Lordswood Leisure Centre on Wednesday 5th November 2025!\n\nSchedule:\n5.00pm – Gates open and rides start\n6.30pm – Family and kids fireworks display\n7.30pm – Bonfire lit\n8.30pm – Giant fireworks display\n10.00pm – Event closes\n\nCosts:\nEntry £12.00 per person on the night\nEntry £10.00 per person in advance online (Via trybooking only!)\n\nImportant details:\n– No on site parking\n– Babies in arms accompanied by a full paying adult go free\n– This event is organised my London Carnival Funfairs Ltd. not Lordswood Leisure Centre directly\n– Pets\, personal fireworks (including sparklers)\, alcohol or own food is not permitted on site\n– Food and drink on sale throughout the event\n– Toilets will be on site (not available inside the Leisure Centre)\n\n		\n	\nGet Tickets\n	\n		\n			Pricing\n£12 on the gate on the night \n£10 if purchased in advance (only via trybooking) \nBabies in arms accompanied by a paying adult go free.\n \n\n		\n	\nGet Tickets
URL:https://www.lordswood-leisure.co.uk/event/firework-night-2025/
LOCATION:Lordswood Leisure Centre
CATEGORIES:Fireworks
ATTACH;FMTTYPE=image/jpeg:https://www.lordswood-leisure.co.uk/wp-content/uploads/2025/10/LLC-Fireworks-2025.jpg
ORGANIZER;CN="London Carnival Funfairs Ltd.":MAILTO:info@montyhammond.co.uk
END:VEVENT
BEGIN:VEVENT
DTSTART;TZID=UTC:20241106T170000
DTEND;TZID=UTC:20241106T220000
DTSTAMP:20260420T143120
CREATED:20241002T182907Z
LAST-MODIFIED:20241002T183300Z
UID:39961-1730912400-1730930400@www.lordswood-leisure.co.uk
SUMMARY:Firework Night 2024
DESCRIPTION:The annual bonfire\, fireworks and funfair is back at Lordswood Leisure Centre on Wednesday 6th November 2024!\n\nSchedule:\n5.00pm – Gates open and rides start\n6.30pm – Family and kids fireworks display\n7.30pm – Bonfire lit\n8.30pm – Giant fireworks display\n10.00pm – Event closes\n\nCosts:\nEntry £10.00 per person on the night\nEntry £8.00 per person in advance online (Via trybooking only!)\n\nImportant details:\n– No on site parking\n– Babies in arms accompanied by a full paying adult go free\n– This event is organised my London Carnival Funfairs Ltd. not Lordswood Leisure Centre directly\n– Pets\, personal fireworks (including sparklers)\, alcohol or own food is not permitted on site\n– Food and drink on sale throughout the event\n– Toilets will be on site (not available inside the Leisure Centre)\n\n		\n	\nGet Tickets\n	\n		\n			Pricing\n£10 on the gate on the night \n£8 if purchased in advance (only via trybooking) \nBabies in arms accompanied by a paying adult go free.\n \n\n		\n	\nGet Tickets
URL:https://www.lordswood-leisure.co.uk/event/firework-night-2024/
LOCATION:Lordswood Leisure Centre
CATEGORIES:Fireworks
ATTACH;FMTTYPE=image/jpeg:https://www.lordswood-leisure.co.uk/wp-content/uploads/2024/10/LLC-Fireworks-2024.jpeg
ORGANIZER;CN="London Carnival Funfairs Ltd.":MAILTO:info@montyhammond.co.uk
END:VEVENT
BEGIN:VEVENT
DTSTART;TZID=UTC:20231101T170000
DTEND;TZID=UTC:20231101T220000
DTSTAMP:20260420T143120
CREATED:20221003T084954Z
LAST-MODIFIED:20230922T101411Z
UID:39337-1698858000-1698876000@www.lordswood-leisure.co.uk
SUMMARY:Firework Night 2023
DESCRIPTION:The annual bonfire\, fireworks and funfair is back at Lordswood Leisure Centre on Wednesday 1st November 2023!\n\nSchedule:\n5pm – Gates open\n6.30pm – Family and kids fireworks show\n7.30pm – Bonfire lit\n8.30pm – Giant fireworks display\n10.00pm – Event closes\n\nCosts:\nEntry £10.00 per person on the night\nEntry £8.00 per person in advance online (Via trybooking only!)\n\nImportant details:\n– No on site parking\n– Babies in arms accompanied by a full paying adult go free\n– This event is organised my London Carnival Funfairs Ltd. not Lordswood Leisure Centre directly\n– Pets\, personal fireworks (including sparklers)\, alcohol or own food is not permitted on site\n– Food and drink on sale throughout the event\n– Toilets will be on site (not available inside the Leisure Centre)\n\n		\n	\nGet Tickets\n	\n		\n			Pricing\n£10 on the gate on the night \n£8 if purchased in advance (only via trybooking) \nBabies in arms accompanied by a paying adult go free.\n \n\n		\n	\nGet Tickets
URL:https://www.lordswood-leisure.co.uk/event/firework-night-2023/
LOCATION:Lordswood Leisure Centre
CATEGORIES:Fireworks
ATTACH;FMTTYPE=image/jpeg:https://www.lordswood-leisure.co.uk/wp-content/uploads/2022/10/LLC-Fireworks-2023.jpeg
ORGANIZER;CN="London Carnival Funfairs Ltd.":MAILTO:info@montyhammond.co.uk
END:VEVENT
BEGIN:VEVENT
DTSTART;TZID=UTC:20221102T170000
DTEND;TZID=UTC:20221102T220000
DTSTAMP:20260420T143120
CREATED:20221003T084950Z
LAST-MODIFIED:20221031T132611Z
UID:39336-1667408400-1667426400@www.lordswood-leisure.co.uk
SUMMARY:Firework Night 2022
DESCRIPTION:The annual Bonfire\, Fireworks & Fun Fair at Lordswood Leisure Centre returns for 2022! \nGet your tickets online today\, just £6 per person. \nYou can also purchase tickets on the gate on the night but they will be £7.50 per person so book in advance to save £1.50 per person! \nBabies in arms accompanied by a paying adult go free. \nEvent Timings:\nGates Open & Rides Start: 5pm\nFamily & Kid’s Firework: 6.30pm\nBonfire Lit: 7.30pm\nGiant Fireworks Display: 8.30pm\nEvent Closes: 10pm \nPlease be aware that there is NO ON SITE PARKING \n\n		\n	\n Book Online - Get Your Tickets Now!\n	\n		\n			Pricing\n£7.50 on the gate on the night \n£5 if purchased in advance \nToddlers in buggies (not walking) accompanied by a paying adult go free.\n \n\n		\n	\n Book Online - Get Your Tickets Now!
URL:https://www.lordswood-leisure.co.uk/event/firework-night-2022/
LOCATION:Lordswood Leisure Centre
CATEGORIES:Fireworks
ATTACH;FMTTYPE=image/jpeg:https://www.lordswood-leisure.co.uk/wp-content/uploads/2022/10/Fireworks-2022-Small.jpg
ORGANIZER;CN="Lordswood Leisure Centre":MAILTO:comments@lordswood-leisure.co.uk
END:VEVENT
BEGIN:VEVENT
DTSTART;TZID=UTC:20211103T170000
DTEND;TZID=UTC:20211103T220000
DTSTAMP:20260420T143120
CREATED:20211012T140541Z
LAST-MODIFIED:20211027T100200Z
UID:39016-1635958800-1635976800@www.lordswood-leisure.co.uk
SUMMARY:Firework Night 2021
DESCRIPTION:The annual Bonfire\, Fireworks & Fun Fair at Lordswood Leisure Centre returns for 2021! \nGet your ticket in advance and save £2.50 per ticket. Tickets on the gate on night will be £7.50 and only purchasable at the gate.\nOnline ticket sales will close on Sunday 31st October 2021. \nToddlers in buggies (not walking) accompanied by a paying adult go free \nEvent Timings:\nGates Open & Rides Start: 5pm\nFamily & Kid’s Firework: 6.30pm\nBonfire Lit: 7.30pm\nGiant Fireworks Display: 8.30pm\nEvent Closes: 10pm \nPlease be aware that there is NO ON SITE PARKING \n\n		\n	\nGet Tickets\n	\n		\n			Pricing\n£7.50 on the gate on the night \n£5 if purchased in advance (advanced ticket sales end 31st October 2021) \n\nToddlers in buggies (not walking) accompanied by a paying adult go free.
URL:https://www.lordswood-leisure.co.uk/event/firework-night-2021/
LOCATION:Lordswood Leisure Centre
CATEGORIES:Fireworks
ATTACH;FMTTYPE=image/jpeg:https://www.lordswood-leisure.co.uk/wp-content/uploads/2021/10/London-Funfairs-Board-Lordswood-landscape.jpg
ORGANIZER;CN="Lordswood Leisure Centre":MAILTO:comments@lordswood-leisure.co.uk
END:VEVENT
BEGIN:VEVENT
DTSTART;TZID=UTC:20191106T170000
DTEND;TZID=UTC:20191106T220000
DTSTAMP:20260420T143120
CREATED:20190806T093706Z
LAST-MODIFIED:20191011T093109Z
UID:38317-1573059600-1573077600@www.lordswood-leisure.co.uk
SUMMARY:Firework Night 2019
DESCRIPTION:Event information\nIt’s time for the annual Bonfire\, Fireworks\, Stunt Show & Fun Fair Rides here at Lordswood Leisure Centre! \nThis year’s date for our firework night is Wednesday 6th November 2019 \n\nTimeline:\n5pm – Gates Open & Rides Start\n6.30pm – Family & Kids Fireworks\n7pm – Fire / High Diver\n7.30pm – Bonfire Lit\n8.30pm – Giant Fireworks Display\n9.00pm – Fire / High Diver\n10.00pm – Event Closes \n\n\n		\n	\n\n	\n		\n		\n			\n		\n	\n\n	\n		\n			Pricing\n£5 on the gate on the night \n£4 if purchased in advance from Lordswood Leisure Centre \n\nToddlers in buggies (not walking) accompanied by a paying adult go free.
URL:https://www.lordswood-leisure.co.uk/event/firework-night-2019/
LOCATION:Lordswood Leisure Centre
CATEGORIES:Fireworks
ATTACH;FMTTYPE=image/jpeg:https://www.lordswood-leisure.co.uk/wp-content/uploads/2015/05/fireworks.jpg
ORGANIZER;CN="Lordswood Leisure Centre":MAILTO:comments@lordswood-leisure.co.uk
END:VEVENT
BEGIN:VEVENT
DTSTART;TZID=UTC:20181031T170000
DTEND;TZID=UTC:20181031T220000
DTSTAMP:20260420T143120
CREATED:20180529T103723Z
LAST-MODIFIED:20181002T161138Z
UID:37817-1541005200-1541023200@www.lordswood-leisure.co.uk
SUMMARY:Firework Night 2018
DESCRIPTION:Event information\nThis year’s date for our firework night is Wednesday 31st October 2018! \nTimes:\n5.00pm – Gates Open\n6.30pm – Family & Kids Fireworks\n7.00pm – Fire/High Diver\n7.30pm – Bonfire Lit\n8.30pm – Giant Fireworks Display\n9.00pm – Fire/High Diver\n10.00pm – Event Closes \n\n		\n	\n\n	\n		\n			[fitness_button text=”Get Your Tickets Now!” url=”https://llc-tickets.jnptechnical.co.uk/product/firework-night-31st-october-2018/” target=”_blank” size=”btn-lg” style=”rounded” color=”green”] \n\n		\n	\n\n	\n		\n			Pricing\n£4 per person (If purchased in advance online or from Lordswood Leisure Centre reception) \n£5 per person on the gate on the night \nToddlers in pushchair (not walking) go free if accompanied by a full paying adult \n\n		\n	\n\n	\n		\n			[fitness_button text=”Get Your Tickets Now!” url=”https://llc-tickets.jnptechnical.co.uk/product/firework-night-31st-october-2018/” target=”_blank” size=”btn-lg” style=”rounded” color=”green”]
URL:https://www.lordswood-leisure.co.uk/event/firework-night-2018/
LOCATION:Lordswood Leisure Centre
CATEGORIES:Fireworks
ATTACH;FMTTYPE=image/jpeg:https://www.lordswood-leisure.co.uk/wp-content/uploads/2018/05/SMALL-LORDSWOOD-A2-POSTER_Layout-1.jpg
ORGANIZER;CN="Lordswood Leisure Centre":MAILTO:comments@lordswood-leisure.co.uk
END:VEVENT
BEGIN:VEVENT
DTSTART;TZID=UTC:20171101T170000
DTEND;TZID=UTC:20171101T220000
DTSTAMP:20260420T143120
CREATED:20170726T205501Z
LAST-MODIFIED:20171006T153254Z
UID:37346-1509555600-1509573600@www.lordswood-leisure.co.uk
SUMMARY:Firework Night 2017
DESCRIPTION:Event information\nThis year’s date for our firework night is Wednesday 1st November 2017! \n  \nFire work display timetable (to be confirmed) \n  \n\nGates open & funfair rides start: 5PM\nMusic throughout the evening arranged by Lordswood Leisure Centre\nFirst (Children’s) Fireworks Display: 6.30PM\nBonfire lit: 7.30PM\nSecond (Giant) Fireworks display: 8.30PM\nHigh Diver: 9PM\n\nIt is advisable to arrive early to avoid last minute queues and so as not to miss the start of the fireworks. \n\n		\n	\n\n	\n		\n			Pricing\nOn the night\nTickets are £5 on the gate on the night \nIn advance\nTickets are available in advance from Lordswood Leisure Centre reception for £4 – these tickets will not be able to be purchased from Lordswood on the day of the event. \nFor Enquiries please call (01634) 682862 \n[fitness_button text=”Buy Tickets Online” url=”https://llc-tickets.jnptechnical.co.uk/product/firework-night-2017-1st-november-2017/” target=”_self” size=”btn-lg” style=”rounded” color=”green”]
URL:https://www.lordswood-leisure.co.uk/event/firework-night-2017/
LOCATION:Lordswood Leisure Centre
CATEGORIES:Fireworks
ORGANIZER;CN="Lordswood Leisure Centre":MAILTO:comments@lordswood-leisure.co.uk
END:VEVENT
BEGIN:VEVENT
DTSTART;TZID=UTC:20161102T163000
DTEND;TZID=UTC:20161102T220000
DTSTAMP:20260420T143120
CREATED:20150525T102617Z
LAST-MODIFIED:20161007T154914Z
UID:746-1478104200-1478124000@www.lordswood-leisure.co.uk
SUMMARY:Firework Night
DESCRIPTION:Event information\nThis year’s date for our firework night is Wednesday 2nd November 2016! \n  \nFire work display timetable. \n\nGates open & funfair rides start: 5PM\nMusic throughout the evening arranged by Lordswood Leisure Centre\nFirst (Children’s) Fireworks Display: 6.30PM\nBonfire lit: 7.30PM\nSecond (Giant) Fireworks display: 8.30\n\nIt is advisable to arrive early to avoid last minute queues and so as not to miss the start of the fireworks. \n\n		\n	\n\n	\n		\n		\n			\n		\n	\n\n	\n		\n			Pricing \nOn the night\nTickets are £5 on the gate on the night \nIn advance\nTickets are available in advance from Lordswood Leisure Centre reception for £4 – these tickets will not be able to be purchased from Lordswood on the day of the event. \nFor Enquiries please call (01634) 682862
URL:https://www.lordswood-leisure.co.uk/event/firework-night/
LOCATION:Lordswood Leisure Centre
CATEGORIES:Fireworks
ATTACH;FMTTYPE=image/jpeg:https://www.lordswood-leisure.co.uk/wp-content/uploads/2015/05/WWTP-Lordswood-Banner-2016small.jpg
ORGANIZER;CN="Lordswood Leisure Centre":MAILTO:comments@lordswood-leisure.co.uk
END:VEVENT
END:VCALENDAR